BEGIN:VCALENDAR
VERSION:2.0
PRODID:-//eventon.com NONSGML v1.0//EN
BEGIN:VEVENT
UID:69ed125b91a89
DTSTAMP:20260425T211331
DTSTART:20250819T064500Z
DTEND:20250819T081500Z
TZID:Pacific/Midway
LOCATION:
SUMMARY:A2.2 Curso intensivo conversación y gramática
DESCRIPTION: Vorkenntnisse: Voraussetzung ist die Kenntnis der wichtigsten Inhalte der Niveaustufe A1\,  und A2.1 wie z.B. die Formen und Anwendung der Vergangenheitszeiten indefinido\,  imperfecto und perfecto. Themen: Dieser Kurs richtet sich an alle\,  die in kurzer Zeit die wichtigsten Inhalte der Niveaustufe A2.2 erlernen bzw. wiederholen möchten. Neben der Grammatik wird insbesondere die[..]\nhttps://www.fonema.de/events/a2-2-curso-intensivo-conversacion-y-gramatica/
URL:https://www.fonema.de/events/a2-2-curso-intensivo-conversacion-y-gramatica/
END:VEVENT
END:VCALENDAR